BEGIN:VCALENDAR
VERSION:2.0
PRODID:-//Vanier BIA - ECPv6.15.20//NONSGML v1.0//EN
CALSCALE:GREGORIAN
METHOD:PUBLISH
X-ORIGINAL-URL:https://vanierbia.com
X-WR-CALDESC:Events for Vanier BIA
REFRESH-INTERVAL;VALUE=DURATION:PT1H
X-Robots-Tag:noindex
X-PUBLISHED-TTL:PT1H
BEGIN:VTIMEZONE
TZID:America/Toronto
BEGIN:DAYLIGHT
TZOFFSETFROM:-0500
TZOFFSETTO:-0400
TZNAME:EDT
DTSTART:20230312T070000
END:DAYLIGHT
BEGIN:STANDARD
TZOFFSETFROM:-0400
TZOFFSETTO:-0500
TZNAME:EST
DTSTART:20231105T060000
END:STANDARD
BEGIN:DAYLIGHT
TZOFFSETFROM:-0500
TZOFFSETTO:-0400
TZNAME:EDT
DTSTART:20240310T070000
END:DAYLIGHT
BEGIN:STANDARD
TZOFFSETFROM:-0400
TZOFFSETTO:-0500
TZNAME:EST
DTSTART:20241103T060000
END:STANDARD
BEGIN:DAYLIGHT
TZOFFSETFROM:-0500
TZOFFSETTO:-0400
TZNAME:EDT
DTSTART:20250309T070000
END:DAYLIGHT
BEGIN:STANDARD
TZOFFSETFROM:-0400
TZOFFSETTO:-0500
TZNAME:EST
DTSTART:20251102T060000
END:STANDARD
END:VTIMEZONE
BEGIN:VEVENT
DTSTART;TZID=America/Toronto:20240731T180000
DTEND;TZID=America/Toronto:20240731T200000
DTSTAMP:20260420T184043
CREATED:20240812T173945Z
LAST-MODIFIED:20240812T180613Z
UID:10000007-1722448800-1722456000@vanierbia.com
SUMMARY:AKOUSTIK
DESCRIPTION:Get ready for another Akoustik night! Wednesday\, July 31st at 6 pm\, join us for performances from The Lionyls\, Illiyah Rose and Chloé Boulianne. \nAkoustik at St. Charles is a FREE outdoor live music event right here in Vanier. It’s held at the St. Charles Market at the corner of Beechwood Avenue and St. Charles Street. We’ll see you there! \nNo tickets required. \n\n  \nTHE LIONYLS\nThe Lionyls are a five-piece Rock & Soul outfit based in Ottawa\, Canada with an unmistakable sound and ability to make their audience move. Inspired by rhythm & blues\, funk\, soul\, and rock & roll traditions\, they have crafted an organic sound that is both timeless and current\, raw and refined. The band combines elements from many different genres to create songs that transcend social and cultural barriers and connect people from all walks of life. \nCHLOÉ BOULIANNE\nChloé is a 13-year-old musician who learned to play guitar when she was 9 and often sings and plays for family and friends. She enjoys playing a variety of cover songs but is a country music fan at heart! \nILLIYAH ROSE\nThe little local legend Illiyah Rose is an Ottawa native who by the age of 14 has already opened up for the likes of Robert Plant\, Beck\, Masta Ace\, and has shared the stage with the Beach Boys! One of the most talented\, soulful\, and well-rounded teens around. Headlining festivals at the age of eight\, she is already a seasoned performer and she is just getting started.
URL:https://vanierbia.com/event/akoustik-2/
LOCATION:St. Charles Market\, 135 Barrette St.\, Vanier\, Ontario\, K1L 7Z9\, Canada
ATTACH;FMTTYPE=image/png:https://vanierbia.com/wp-content/uploads/2024/08/4.png
ORGANIZER;CN="Vanier BIA / ZAC Vanier":MAILTO:info@vanierbia.com
END:VEVENT
END:VCALENDAR