BEGIN:VCALENDAR
VERSION:2.0
PRODID:-//Vanier BIA - ECPv6.15.20//NONSGML v1.0//EN
CALSCALE:GREGORIAN
METHOD:PUBLISH
X-WR-CALNAME:Vanier BIA
X-ORIGINAL-URL:https://vanierbia.com
X-WR-CALDESC:Events for Vanier BIA
REFRESH-INTERVAL;VALUE=DURATION:PT1H
X-Robots-Tag:noindex
X-PUBLISHED-TTL:PT1H
BEGIN:VTIMEZONE
TZID:America/Toronto
BEGIN:DAYLIGHT
TZOFFSETFROM:-0500
TZOFFSETTO:-0400
TZNAME:EDT
DTSTART:20230312T070000
END:DAYLIGHT
BEGIN:STANDARD
TZOFFSETFROM:-0400
TZOFFSETTO:-0500
TZNAME:EST
DTSTART:20231105T060000
END:STANDARD
BEGIN:DAYLIGHT
TZOFFSETFROM:-0500
TZOFFSETTO:-0400
TZNAME:EDT
DTSTART:20240310T070000
END:DAYLIGHT
BEGIN:STANDARD
TZOFFSETFROM:-0400
TZOFFSETTO:-0500
TZNAME:EST
DTSTART:20241103T060000
END:STANDARD
BEGIN:DAYLIGHT
TZOFFSETFROM:-0500
TZOFFSETTO:-0400
TZNAME:EDT
DTSTART:20250309T070000
END:DAYLIGHT
BEGIN:STANDARD
TZOFFSETFROM:-0400
TZOFFSETTO:-0500
TZNAME:EST
DTSTART:20251102T060000
END:STANDARD
END:VTIMEZONE
BEGIN:VEVENT
DTSTART;TZID=America/Toronto:20240807T180000
DTEND;TZID=America/Toronto:20240807T200000
DTSTAMP:20260420T202331
CREATED:20240812T174507Z
LAST-MODIFIED:20240812T174547Z
UID:10000008-1723053600-1723060800@vanierbia.com
SUMMARY:AKOUSTIK
DESCRIPTION:Akoustik at St. Charles is back again this week with @beau.nectar and @kristine.stpierre ! Join us at St. Charles market from 6pm – 8pm tomorrow July 7th for these amazing performances. \nAkoustik at St. Charles is a FREE outdoor live music event right here in Vanier. It’s held at the St. Charles Market at the corner of Beechwood Avenue and St. Charles Street. We’ll see you there! \nNo tickets required. \n\nKRISTINE ST-PIERRE\nIntrospective folk with a foot-stomping bluesy flair. \n“The crowd was immediately captivated by her great sound\, which seamlessly weaved between French and English. Kristine’s performance was not just a concert\, it was a great storyline that unfolded with each note.” — Hidden Beats for City Folk\, 2023 \n“Auteure-compositrice-interprète folk à la voix de velours. Une artiste engagée sur la cause féministe\, voyageuse et pleine d’authenticité.” — Guillaume Lorin\, CHOQ fm\, décembre 2017. \nKristine St-Pierre is an award-nominated bilingual folk singer-songwriter with soul-searching ballads and a rollicking bluesy flair. Described as a “chansonnière” with a traveling heart\, Kristine has played to audiences across Canada and around the world. Her voice combined with her beautifully crafted songs are increasingly gaining her attention across Canada. The Ottawa-based artist has released a bilingual EP in 2010\, followed by the bilingual album CALL ME CRAZY in 2012. In 2017\, she released the francophone EP LA PROMESSE for which she received a Canadian Folk Music Award nomination in the French Songwriter of the Year category. She has also been nominated five years in a row for Francophone Artist of the Year by the Country Music Association of Ontario (2019-2023). \nKristine is releasing a third solo album in 2024 and embarking on a new project with talented musician Nick James Beaton under the name Wayfairing Souls. \nBEAU NECTAR\nBeau Nectar is a bilingual collaboration between two singer-songwriters separated by kilometers of forests\, mountains\, and prairies. Marie-Clo (Franco-Ontarian/Algonquin)\, and éemi (Fransaskoise) deliver intimate and vibrant synth/pop with ecofeminist concepts that spark their fans’ empathy towards nature. The duo signed with Indica Records and released their first album Two Lips on June 2nd\, 2023\, and re-released it as a deluxe album on May 10th\, 2024. \nIn the last two years\, the duo has participated in a market adaptation residency with Christian Bordarier (France)\, presented several major showcases at Festival Crossroads in Roubaix (France)\, Breakout West (Calgary)\, etc. They participated in the Musicians in Residence program at Banff Center for the Arts\, opened for Pierre Kwenders\, Daniel Bélanger\, and Fanny Bloom\, completed two Canadian tours\, won 4 Trille Or awards in 2023\, appeared on CBC’s Searchlight 100\, were nominated for 4 Capital Music Awards\, 2 Western Canadian Music Awards\, etc.
URL:https://vanierbia.com/event/akoustik-3/
LOCATION:St. Charles Market\, 135 Barrette St.\, Vanier\, Ontario\, K1L 7Z9\, Canada
ATTACH;FMTTYPE=image/png:https://vanierbia.com/wp-content/uploads/2024/08/Untitled-design-19.png
ORGANIZER;CN="Vanier BIA / ZAC Vanier":MAILTO:info@vanierbia.com
END:VEVENT
END:VCALENDAR