BEGIN:VCALENDAR
VERSION:2.0
PRODID:-//Vanier BIA - ECPv6.15.20//NONSGML v1.0//EN
CALSCALE:GREGORIAN
METHOD:PUBLISH
X-ORIGINAL-URL:https://vanierbia.com
X-WR-CALDESC:Events for Vanier BIA
REFRESH-INTERVAL;VALUE=DURATION:PT1H
X-Robots-Tag:noindex
X-PUBLISHED-TTL:PT1H
BEGIN:VTIMEZONE
TZID:America/Toronto
BEGIN:DAYLIGHT
TZOFFSETFROM:-0500
TZOFFSETTO:-0400
TZNAME:EDT
DTSTART:20230312T070000
END:DAYLIGHT
BEGIN:STANDARD
TZOFFSETFROM:-0400
TZOFFSETTO:-0500
TZNAME:EST
DTSTART:20231105T060000
END:STANDARD
BEGIN:DAYLIGHT
TZOFFSETFROM:-0500
TZOFFSETTO:-0400
TZNAME:EDT
DTSTART:20240310T070000
END:DAYLIGHT
BEGIN:STANDARD
TZOFFSETFROM:-0400
TZOFFSETTO:-0500
TZNAME:EST
DTSTART:20241103T060000
END:STANDARD
BEGIN:DAYLIGHT
TZOFFSETFROM:-0500
TZOFFSETTO:-0400
TZNAME:EDT
DTSTART:20250309T070000
END:DAYLIGHT
BEGIN:STANDARD
TZOFFSETFROM:-0400
TZOFFSETTO:-0500
TZNAME:EST
DTSTART:20251102T060000
END:STANDARD
END:VTIMEZONE
BEGIN:VEVENT
DTSTART;TZID=America/Toronto:20240828T180000
DTEND;TZID=America/Toronto:20240828T200000
DTSTAMP:20260419T185926
CREATED:20240812T175925Z
LAST-MODIFIED:20240812T175925Z
UID:10000010-1724868000-1724875200@vanierbia.com
SUMMARY:AKOUSTIK
DESCRIPTION:Akoustik at St. Charles is back again this week with Nambi and Ras Lee! Join us at St. Charles market from 6pm – 8pm \nAkoustik at St. Charles is a FREE outdoor live music event right here in Vanier. It’s held at the St. Charles Market at the corner of Beechwood Avenue and St. Charles Street. We’ll see you there! \nNo tickets required. \n\nNAMBI\nTenacious\, and achingly pure\, singer-songwriter NAMBI (formerly known as Rita Carter) is a powerhouse of acoustic soul. Whether performing solo or with her undeniably talented band\, The Rhythm (formed in 2018)\, NAMBI’s reputation as a sincere performer has led her to notable stages and festivals\, such as The National Arts Centre (2018\, 2020\, 2023)\, Ottawa Bluesfest (2018\, 2020\, 2022)\, House of Paint (2014\, 2017)\, MEGAPHONO (2018\, 2019)\, Westfest (2018)\, and CRANIUM Festival (2023). Influenced by legendary singer/songwriters like Tracy Chapman\, Lauryn Hill\, and India Arie\, at the heart of Nambi’s music lies an inextinguishable belief in using art as an expressive tool for love\, compassion\, and peace. \nRAS LEE\nRas Lee\, born Lee Morris in 1952\, in Montego Bay\, Jamaica\, comes from a family of rich musical credentials. Growing up in Montego Bay\, his mother Mertella Morris was a choir leader in the Church of God of Prophecy where a young Ras Lee started singing in Sunday School. He would later sing for the church in various locations around the island. His father\, Thomas Morris\, known as Anancy\, was a well-known lead singer of a Calypso band and worked at the various resort hotels in Montego Bay. Again\, a young Ras Lee started working with his dad\, appearing in some of the shows. Ras Lee moved to Canada in 1979 and never left his love for reggae music. He continued his musical career and performed with many top reggae acts including Heaven’s Radio\, Roots Revival (led by Ernie Smith)\, Toronto’s Reggae AllStar\, and Ottawa’s Magic Circle. In Ottawa\, Ras Lee founded the band Roots Movement\, which continues today\, led by bassist Owen Brown. In 2012\, he was crowned Ottawa Reggae Ambassador in recognition of his work over the years in the Ottawa community as a reggae artist. In 2018\, Ras Lee released the song “Don’t Give Up\,” a track produced by CanJam music. Ras Lee continues to perform in various venues and music festivals throughout Ontario and Quebec\, Canada\, as a lead vocalist and with his band\, The Vibes Band. Ras Lee is actively working on his next album. “May the force of goodness be with you all” ~ Ras Lee
URL:https://vanierbia.com/event/akoustik-5/
LOCATION:St. Charles Market\, 135 Barrette St.\, Vanier\, Ontario\, K1L 7Z9\, Canada
ATTACH;FMTTYPE=image/png:https://vanierbia.com/wp-content/uploads/2024/08/6.png
ORGANIZER;CN="Vanier BIA / ZAC Vanier":MAILTO:info@vanierbia.com
END:VEVENT
END:VCALENDAR