BEGIN:VCALENDAR
VERSION:2.0
PRODID:-//Vanier BIA - ECPv6.15.20//NONSGML v1.0//EN
CALSCALE:GREGORIAN
METHOD:PUBLISH
X-ORIGINAL-URL:https://vanierbia.com
X-WR-CALDESC:Events for Vanier BIA
REFRESH-INTERVAL;VALUE=DURATION:PT1H
X-Robots-Tag:noindex
X-PUBLISHED-TTL:PT1H
BEGIN:VTIMEZONE
TZID:America/Toronto
BEGIN:DAYLIGHT
TZOFFSETFROM:-0500
TZOFFSETTO:-0400
TZNAME:EDT
DTSTART:20250309T070000
END:DAYLIGHT
BEGIN:STANDARD
TZOFFSETFROM:-0400
TZOFFSETTO:-0500
TZNAME:EST
DTSTART:20251102T060000
END:STANDARD
BEGIN:DAYLIGHT
TZOFFSETFROM:-0500
TZOFFSETTO:-0400
TZNAME:EDT
DTSTART:20260308T070000
END:DAYLIGHT
BEGIN:STANDARD
TZOFFSETFROM:-0400
TZOFFSETTO:-0500
TZNAME:EST
DTSTART:20261101T060000
END:STANDARD
BEGIN:DAYLIGHT
TZOFFSETFROM:-0500
TZOFFSETTO:-0400
TZNAME:EDT
DTSTART:20270314T070000
END:DAYLIGHT
BEGIN:STANDARD
TZOFFSETFROM:-0400
TZOFFSETTO:-0500
TZNAME:EST
DTSTART:20271107T060000
END:STANDARD
END:VTIMEZONE
BEGIN:VEVENT
DTSTART;TZID=America/Toronto:20260421T080000
DTEND;TZID=America/Toronto:20260421T170000
DTSTAMP:20260420T120113
CREATED:20260420T155027Z
LAST-MODIFIED:20260420T155027Z
UID:10000165-1776758400-1776790800@vanierbia.com
SUMMARY:Test Event - April 21 (Daily Sync)
DESCRIPTION:
URL:https://vanierbia.com/event/test-event-april-21-daily-sync/
CATEGORIES:Vanier HUB
END:VEVENT
BEGIN:VEVENT
DTSTART;TZID=America/Toronto:20260425T080000
DTEND;TZID=America/Toronto:20260425T170000
DTSTAMP:20260420T120113
CREATED:20260420T155105Z
LAST-MODIFIED:20260420T155105Z
UID:10000166-1777104000-1777136400@vanierbia.com
SUMMARY:Test Event - April 25 (Daily Sync)
DESCRIPTION:
URL:https://vanierbia.com/event/test-event-april-25-daily-sync/
CATEGORIES:Vanier HUB
END:VEVENT
END:VCALENDAR