BEGIN:VCALENDAR
VERSION:2.0
PRODID:-//Vanier BIA - ECPv6.15.20//NONSGML v1.0//EN
CALSCALE:GREGORIAN
METHOD:PUBLISH
X-WR-CALNAME:Vanier BIA
X-ORIGINAL-URL:https://vanierbia.com
X-WR-CALDESC:Events for Vanier BIA
REFRESH-INTERVAL;VALUE=DURATION:PT1H
X-Robots-Tag:noindex
X-PUBLISHED-TTL:PT1H
BEGIN:VTIMEZONE
TZID:America/Toronto
BEGIN:DAYLIGHT
TZOFFSETFROM:-0500
TZOFFSETTO:-0400
TZNAME:EDT
DTSTART:20230312T070000
END:DAYLIGHT
BEGIN:STANDARD
TZOFFSETFROM:-0400
TZOFFSETTO:-0500
TZNAME:EST
DTSTART:20231105T060000
END:STANDARD
BEGIN:DAYLIGHT
TZOFFSETFROM:-0500
TZOFFSETTO:-0400
TZNAME:EDT
DTSTART:20240310T070000
END:DAYLIGHT
BEGIN:STANDARD
TZOFFSETFROM:-0400
TZOFFSETTO:-0500
TZNAME:EST
DTSTART:20241103T060000
END:STANDARD
BEGIN:DAYLIGHT
TZOFFSETFROM:-0500
TZOFFSETTO:-0400
TZNAME:EDT
DTSTART:20250309T070000
END:DAYLIGHT
BEGIN:STANDARD
TZOFFSETFROM:-0400
TZOFFSETTO:-0500
TZNAME:EST
DTSTART:20251102T060000
END:STANDARD
END:VTIMEZONE
BEGIN:VEVENT
DTSTART;TZID=America/Toronto:20240717T180000
DTEND;TZID=America/Toronto:20240717T200000
DTSTAMP:20260419T185212
CREATED:20240717T110918Z
LAST-MODIFIED:20240812T180817Z
UID:10000004-1721239200-1721246400@vanierbia.com
SUMMARY:Akoustik
DESCRIPTION:Akoustik at St. Charles is back again this week with Grace Marr and Charlie A’Court! Join us at St. Charles market from 6pm – 8pm \nAkoustik is a FREE outdoor live music event right here in Vanier. It’s held at the St. Charles Market at the corner of Beechwood Avenue and St. Charles Street. We’ll see you there! \nNo ticket required. \n\nGRACE MARR\nUp-and-coming Canadian powerhouse\, Grace Marr\, is a multi-genre songwriter and ‘Alternative Inspirational’ artist (a term she’s coined to embody her fusion of Gospel/CCM\, Folk\, and R&B). The Ottawa-born singer-songwriter introduced herself to the music scene in July of 2023 with independently released\, nostalgia-infused single ‘Twenty-Two Again’\, followed by boundary-breaking\, spiritual single ‘Gin’\, and most recent summer bop ‘Body Issues’. This past April\, Grace released her 5-track EP ‘Supernatural’ which was showcased on Breakfast Television where she performed ‘Belong’ and was interviewed by Tracy Moore and Meredith Shaw on national live television. Spending the last few years honing her craft in the songwriting space\, Grace has most notably written with Rodney ‘Darkchild’ Jerkins (Whitney Houston\, Justin Bieber\, Destiny’s Child) as part of the YYZ-LAX Songwriting Camp\, and co-wrote ‘Where Would I Be’ on Maverick City Music’s TRIBL Anthologies album (released shortly after the music group’s Grammy win for Best Contemporary Christian Music Album). Performing on stages such as TIFF\, RBC Bluesfest\, and MEGAPHONO\, Grace has developed a raw\, soulful sound as she belts over lyrics that bridge faith with everyday life. She is consistently working on new music and is currently finishing the final touches on her debut album\, Saving Grace\, set for release on July 12th\, 2024. \nCHARLIE A’COURT\nPlanted at the crossroads of roots and soul\, Charlie A’Court possesses a mighty voice\, fierce guitar work\, and contemporary songwriting that is loved by fans across Canada and beyond. His latest album\, “A’Court\, Spiegel\, & Vinnick”\, just won Blues Recording of The Year at the 2024 East Coast Music Awards. This fully acoustic album sees A’Court in a wonderful\, synergistic collaboration with Australian blues legend\, Lloyd Spiegel\, and Canadian roots/blues icon\, Suzie Vinnick. \nCharlie has always been recognized for exploring his musical horizons. As a six-time ECMA winner and eight-time Nova Scotia Music Award winner\, Charlie has earned awards for Blues\, Pop\, and R&B/Soul Recordings of the Year\, and on multiple occasions been recognized as Entertainer of the Year. A’Court has also received multiple Maple Blues Award nominations including Male Vocalist and Songwriter of the Year. \nThis fall (2024)\, Charlie will be releasing his new album. “San Palarino” is an Americana-driven deep dive into growing older\, emotional well-being\, and the collective weight bearing down on humanity. Much of the album features co-writes with some of Canada’s top singer/songwriters including Matt Andersen\, Terra Spencer\, and Colin MacDonald (The Trews). The music is drawing directly from his influences like Martin Sexton\, Melissa Etheridge\, Hot House Flowers\, and Jason Isbell & The 400 Unit.
URL:https://vanierbia.com/event/akoustik/
LOCATION:St. Charles Market\, 135 Barrette St.\, Vanier\, Ontario\, K1L 7Z9\, Canada
ATTACH;FMTTYPE=image/png:https://vanierbia.com/wp-content/uploads/2024/08/3.png
ORGANIZER;CN="Vanier BIA / ZAC Vanier":MAILTO:info@vanierbia.com
END:VEVENT
BEGIN:VEVENT
DTSTART;TZID=America/Toronto:20240626T160000
DTEND;TZID=America/Toronto:20240626T190000
DTSTAMP:20260419T185212
CREATED:20240812T181931Z
LAST-MODIFIED:20240812T182644Z
UID:10000013-1719417600-1719428400@vanierbia.com
SUMMARY:The Vanier HUB Launch Party!
DESCRIPTION:Join us in celebrating the opening of our beautiful HUB along with its summer programming. As always\, there will be free delicious food\, family activities\, crafts\, and music. \nCome through to catch a vibe\, have fun\, and celebrate the start of summer in Vanier! \n📍 Vanier HUB – 271 Marier Avenue\n⏰ 4pm – 7pm
URL:https://vanierbia.com/event/hub-launch-party/
LOCATION:The HUB\, 71 Marier Ave.\, Vanier\, ON\, K1L 5P7\, Canada
ATTACH;FMTTYPE=image/png:https://vanierbia.com/wp-content/uploads/2024/08/Hub-16x9-1.png
ORGANIZER;CN="Vanier BIA / ZAC Vanier":MAILTO:info@vanierbia.com
END:VEVENT
BEGIN:VEVENT
DTSTART;TZID=America/Toronto:20240623T110000
DTEND;TZID=America/Toronto:20240623T130000
DTSTAMP:20260419T185212
CREATED:20240424T112348Z
LAST-MODIFIED:20240620T175633Z
UID:10000002-1719140400-1719147600@vanierbia.com
SUMMARY:SummerSUN on McArthur / Soleil D'ÉTÉ sur McArthur
DESCRIPTION:Music / Musique  *  Neuron Scooters  *  Food / Bouffe  *  Buskers / Amuseurs publics
URL:https://vanierbia.com/event/summersun-on-mcarthur-boulevard-soleil-dete-sur-le-boulevard-mcarthur/
LOCATION:McArthur\, Ottawa\, ON\, Canada
ORGANIZER;CN="Vanier BIA / ZAC Vanier":MAILTO:info@vanierbia.com
END:VEVENT
BEGIN:VEVENT
DTSTART;TZID=America/Toronto:20240622T110000
DTEND;TZID=America/Toronto:20240622T130000
DTSTAMP:20260419T185213
CREATED:20240424T114036Z
LAST-MODIFIED:20240620T175531Z
UID:10000003-1719054000-1719061200@vanierbia.com
SUMMARY:SummerSUN on Beechwood / Soleil D’ÉTÉ sur Beechwood
DESCRIPTION:Music / Musique  *  Neuron Scooters  *  Food / Bouffe  *  Buskers / Amuseurs publics
URL:https://vanierbia.com/event/summersun-on-beechwood-boulevard-soleil-dete-sur-le-boulevard-beechwood/
LOCATION:Beechwood\, Ottawa\, ON\, Canada
END:VEVENT
END:VCALENDAR