BEGIN:VCALENDAR
VERSION:2.0
PRODID:-//Vanier BIA - ECPv6.15.20//NONSGML v1.0//EN
CALSCALE:GREGORIAN
METHOD:PUBLISH
X-WR-CALNAME:Vanier BIA
X-ORIGINAL-URL:https://vanierbia.com
X-WR-CALDESC:Events for Vanier BIA
REFRESH-INTERVAL;VALUE=DURATION:PT1H
X-Robots-Tag:noindex
X-PUBLISHED-TTL:PT1H
BEGIN:VTIMEZONE
TZID:America/Toronto
BEGIN:DAYLIGHT
TZOFFSETFROM:-0500
TZOFFSETTO:-0400
TZNAME:EDT
DTSTART:20230312T070000
END:DAYLIGHT
BEGIN:STANDARD
TZOFFSETFROM:-0400
TZOFFSETTO:-0500
TZNAME:EST
DTSTART:20231105T060000
END:STANDARD
BEGIN:DAYLIGHT
TZOFFSETFROM:-0500
TZOFFSETTO:-0400
TZNAME:EDT
DTSTART:20240310T070000
END:DAYLIGHT
BEGIN:STANDARD
TZOFFSETFROM:-0400
TZOFFSETTO:-0500
TZNAME:EST
DTSTART:20241103T060000
END:STANDARD
BEGIN:DAYLIGHT
TZOFFSETFROM:-0500
TZOFFSETTO:-0400
TZNAME:EDT
DTSTART:20250309T070000
END:DAYLIGHT
BEGIN:STANDARD
TZOFFSETFROM:-0400
TZOFFSETTO:-0500
TZNAME:EST
DTSTART:20251102T060000
END:STANDARD
END:VTIMEZONE
BEGIN:VEVENT
DTSTART;TZID=America/Toronto:20240907T150000
DTEND;TZID=America/Toronto:20240907T210000
DTSTAMP:20260419T154222
CREATED:20240905T003851Z
LAST-MODIFIED:20240906T161018Z
UID:10000018-1725721200-1725742800@vanierbia.com
SUMMARY:BeechFest
DESCRIPTION:Our Annual street party along Beechwood Ave is back! From St-Charles to Marier\, the street will be activated with live music & shows\, arts & crafts\, food & drink\, and so much more! It is a chance to celebrate the wonderful businesses all along Beechwood and get together as a community. \n\n\n\n\nWHEN & WHERE IS THE EVENT?\nBeechFest is taking place on Saturday September 7 from 3-9pm. It runs all along Beechwood from St-Charles to Marier. \nTHINGS TO KNOW BEFORE YOU GO\nBeechwood Ave will be closed from 1pm-11pm. The detour for getting around by vehicle is Marier -> Barette -> St. Charles.\nDue to the road closure\, there will be a bike detour. Bokes are welcome on-site but must be walked.\nThere will be public restrooms on site between Subway and the licensed area.\nFood and drinks will be available for purchased in the licensed area! \nSTAGE SCHEDULE\n3:00 PM / 15 h 00 : Jonathan Dion & Comédie Jeunesse\n4:00 PM / 16 h 00 : Monkey Rock Music\n5:00 PM / 17 h 00 : The Wind Up\n6:30 PM / 18 h 30 : Drag Dance Party (ft. Zak\, Adrianna\, Miles & Devona)\n8:00 PM / 20 h 00 : DJ Greeze
URL:https://vanierbia.com/event/beechfest/
LOCATION:Beechwood\, Ottawa\, ON\, Canada
ATTACH;FMTTYPE=image/png:https://vanierbia.com/wp-content/uploads/2024/09/beechfest-event-calendar.png
ORGANIZER;CN="Vanier BIA / ZAC Vanier":MAILTO:info@vanierbia.com
END:VEVENT
BEGIN:VEVENT
DTSTART;TZID=America/Toronto:20240911T180000
DTEND;TZID=America/Toronto:20240911T200000
DTSTAMP:20260419T154222
CREATED:20240812T180215Z
LAST-MODIFIED:20240812T180215Z
UID:10000011-1726077600-1726084800@vanierbia.com
SUMMARY:AKOUSTIK
DESCRIPTION:Akoustik at St. Charles is back again this week with School House and Mimi O’Bonsawin! Join us at St. Charles market from 6pm – 8pm. \nAkoustik at St. Charles is a FREE outdoor live music event right here in Vanier. It’s held at the St. Charles Market at the corner of Beechwood Avenue and St. Charles Street. We’ll see you there! \nNo tickets required. \n\nSCHOOL HOUSE\nSchool House is a folk band from Ottawa. After moving in together\, the three friends discovered that their new home was in fact a 100+ year old school house — inspiring the name. \nThey were recently awarded Group of the Year at Ottawa Music Awards and Album of the Year by Ottawa Faces Magazine. \nTheir live shows combine upbeat\, catchy singalongs with nostalgic & emotive folk tunes to bring a wise\, yet youthful perspective to the Canadian folk music scene. Releasing their debut album in 2023 and an Acoustic EP in 2024; the band has amassed over 200k online streams. \nMIMI O’BONSAWIN\nMimi O’Bonsawin is a contemporary roots singer-songwriter from Northeastern Ontario. Through her rhythm and story-driven songs\, Mimi embraces the beauty of the land\, all the while yielding to her Franco-Ontarian and Abenaki roots. The ethereal quality of her music whisks you away with uplifting melodies and introspective lyrics that weave pop sensibilities with acoustic instruments. The layers of percussion and surprising harmonies make you feel the music rather than just hear it. \n 
URL:https://vanierbia.com/event/akoustik-6/
LOCATION:St. Charles Market\, 135 Barrette St.\, Vanier\, Ontario\, K1L 7Z9\, Canada
ATTACH;FMTTYPE=image/png:https://vanierbia.com/wp-content/uploads/2024/08/5.png
ORGANIZER;CN="Vanier BIA / ZAC Vanier":MAILTO:info@vanierbia.com
END:VEVENT
BEGIN:VEVENT
DTSTART;TZID=America/Toronto:20240921T110000
DTEND;TZID=America/Toronto:20240921T150000
DTSTAMP:20260419T154222
CREATED:20240906T161354Z
LAST-MODIFIED:20240906T161432Z
UID:10000020-1726916400-1726930800@vanierbia.com
SUMMARY:Orange Shirt Decorating Day!
DESCRIPTION:more info coming soon!
URL:https://vanierbia.com/event/hub-orange-shirt-decorating-day/
LOCATION:The HUB\, 71 Marier Ave.\, Vanier\, ON\, K1L 5P7\, Canada
ATTACH;FMTTYPE=image/png:https://vanierbia.com/wp-content/uploads/2024/08/Untitled-design-19-1.png
ORGANIZER;CN="Vanier BIA / ZAC Vanier":MAILTO:info@vanierbia.com
END:VEVENT
BEGIN:VEVENT
DTSTART;TZID=America/Toronto:20240925T180000
DTEND;TZID=America/Toronto:20240925T200000
DTSTAMP:20260419T154222
CREATED:20240812T180424Z
LAST-MODIFIED:20240812T180424Z
UID:10000012-1727287200-1727294400@vanierbia.com
SUMMARY:AKOUSTIK
DESCRIPTION:Akoustik at St. Charles is back again this week with Joly and De Flore! Join us at St. Charles market from 6pm – 8pm \nAkoustik at St. Charles is a FREE outdoor live music event right here in Vanier. It’s held at the St. Charles Market at the corner of Beechwood Avenue and St. Charles Street. We’ll see you there! \nNo tickets required. \n\nJOLY\nIt’s with their first EP\, Au plus bas\, with its heavy sound and unique vocal timbre\, that the JOLY project stood out. With their most recent album DEUIL\, released on March 17\, Marc-Antoine Joly and his bandmates\, Simon Joly and Patrick Harrison\, present the show Évade-toi\, which will surely please all music lovers. From folk to rock all the way to grunge\, JOLY is listened to with the heart\, shared with emotions\, and it’s felt from the gut! \nDE FLORE\nDe Flore is a rendezvous of vaporous bedroom pop\, nu-disco with the French-touch and sensual neo-psychedelic. With a supernatural complicity that dates back to before they were even born\, the duo composed of Sarah-Anne LaCombe and Mathieu Gauthier\, let themselves be seduced by the time that escapes and the velvet that surrounds them. With a lace of new songs bearing an indie\, sexy and groovy signature\, the two self-taught natives of Hawkesbury and L’Orignal project a nostalgic vibe in pastel colors. On stage\, the evasive voice delivers surreal images on hypnotic guitar riffs\, psychedelic synthesizers\, and lungy beats. Their muffled and sparkling energy gives off a heat that sometimes requires fans. \n 
URL:https://vanierbia.com/event/akoustik-7/
LOCATION:St. Charles Market\, 135 Barrette St.\, Vanier\, Ontario\, K1L 7Z9\, Canada
ATTACH;FMTTYPE=image/png:https://vanierbia.com/wp-content/uploads/2024/08/8.png
ORGANIZER;CN="Vanier BIA / ZAC Vanier":MAILTO:info@vanierbia.com
END:VEVENT
END:VCALENDAR