BEGIN:VCALENDAR
VERSION:2.0
PRODID:-//Vanier BIA - ECPv6.15.20//NONSGML v1.0//EN
CALSCALE:GREGORIAN
METHOD:PUBLISH
X-ORIGINAL-URL:https://vanierbia.com/fr/
X-WR-CALDESC:Évènements pour Vanier BIA
REFRESH-INTERVAL;VALUE=DURATION:PT1H
X-Robots-Tag:noindex
X-PUBLISHED-TTL:PT1H
BEGIN:VTIMEZONE
TZID:America/Toronto
BEGIN:DAYLIGHT
TZOFFSETFROM:-0500
TZOFFSETTO:-0400
TZNAME:EDT
DTSTART:20230312T070000
END:DAYLIGHT
BEGIN:STANDARD
TZOFFSETFROM:-0400
TZOFFSETTO:-0500
TZNAME:EST
DTSTART:20231105T060000
END:STANDARD
BEGIN:DAYLIGHT
TZOFFSETFROM:-0500
TZOFFSETTO:-0400
TZNAME:EDT
DTSTART:20240310T070000
END:DAYLIGHT
BEGIN:STANDARD
TZOFFSETFROM:-0400
TZOFFSETTO:-0500
TZNAME:EST
DTSTART:20241103T060000
END:STANDARD
BEGIN:DAYLIGHT
TZOFFSETFROM:-0500
TZOFFSETTO:-0400
TZNAME:EDT
DTSTART:20250309T070000
END:DAYLIGHT
BEGIN:STANDARD
TZOFFSETFROM:-0400
TZOFFSETTO:-0500
TZNAME:EST
DTSTART:20251102T060000
END:STANDARD
END:VTIMEZONE
BEGIN:VEVENT
DTSTART;TZID=America/Toronto:20241029T083000
DTEND;TZID=America/Toronto:20241029T100000
DTSTAMP:20260419T112334
CREATED:20241002T134806Z
LAST-MODIFIED:20241002T135403Z
UID:10000022-1730190600-1730196000@vanierbia.com
SUMMARY:Déjeuner du mois de la petite entreprise
DESCRIPTION:Octobre est le mois des petites entreprises ! C’est le moment de l’année où nous célébrons vos contributions de les petites entreprises à notre économie ! À Ottawa seulement\, il y a 6 400 petites entreprises qui emploient 128 000 personnes dans les 18 ZAC de la ville d’Ottawa. Vous représentez 147 millions de dollars en impôts fonciers versés au budget de la Ville\, ce qui contribue à améliorer la ville dans laquelle nous vivons et travaillons tous. À Vanier seulement\, nos quelque 400 entreprises contribuent à l’embellissement\, aux événements\, à la sûreté et à la sécurité\, et à bien d’autres choses encore ! \nCe mois-ci\, il s’agit de vous célébrer. Votre passion\, votre travail acharné\, votre dévouement. Il s’agit de reconnaître les sacrifices que vous faites et le rôle vital que vous jouez dans notre économie. \nNous espérons que vous pourrez vous joindre à nous et à vos collègues chefs d’entreprise pour un petit-déjeuner de réseautage au Coworkly le 29 octobre de 8h à 9h30.
URL:https://vanierbia.com/fr/event/small-business-month-breakfast/
LOCATION:Coworkly\, 261 Montreal Rd. 3rd Floor\, Ottawa\, Ontario\, K1L 8C7\, Canada
ATTACH;FMTTYPE=image/png:https://vanierbia.com/wp-content/uploads/2024/10/SmallBizBreakfast-fr.png
ORGANIZER;CN="Vanier BIA / ZAC Vanier":MAILTO:info@vanierbia.com
END:VEVENT
END:VCALENDAR